Workbook

Sheet BGS
C2: ANÁLISE DE DOSAGEM DE MATERIAIS - BRITA GRADUADA SIMPLES | K2: FR-ENG-EPR-029 REV00 | P2: CONFORME
D5: DATA: | I5: REVISÃO: | P5: NÃO CONFORME.
D6: EMPRESA: | I6: ORIGEM AGREG. GAÚDO: | P6: NÃO APRESENTADO
D7: CÓD. PROJETO: | I7: ORIGEM AGREG. MIÚDO:
D8: CONTRATO: | I8: FAIXA ESPECIFICADA: | J8: DER/PR-FX II
D9: LOCAL: | I9: APROVAÇÃO:
B11: PARÂMETROS COMPOSIÇÃO | H11: TRAÇO
B12: DENS. MÁX.S SECA | E12: 2.497 | H12: MATERIAIS | I12: TIPO | J12: PROPORÇÃO
B13: UMIDADE ÓTIMA | E13: 7 | H13: MAT. 01 | I13: BRITA 2’’ | J13: 39
B14: EXPANSÃO | E14: 0 | H14: MAT. 02 | I14: BRITA ½’’ | J14: 10
B15: DENS. REAL - AGREG. GRAÚDO | E15: 3.034 | H15: MAT. 03 | I15: PEDRISCO 3/8’’ | J15: 15
B16: DENS. APARENTE - AGREG. GRAÚDO | E16: 3.034 | H16: MAT. 04 | I16: PÓ COM FILLER | J16: 36
B17: DENS. EFETIVA - AGREG. GRAÚDO | E17: =(E15+E16)/2 -> 3.034 | H17: MAT. 05
B18: ABSORÇÃO | E18: 1.12
B19: MASSA ESPECÍFICA APARENTE SECA MÁXIMA INTEGRAL - MEI | E19: =(100*$E$15*$E$12)/(($E$15*H28)+($E$12*(100-H28))) -> #VALUE!
B21: GRANULOMETRIA
B22: MATERIAL | C22: =IF(I13="","",I13) -> BRITA 2’’ | D22: =IF(I14="","",I14) -> BRITA ½’’ | E22: =IF(I15="","",I15) -> PEDRISCO 3/8’’ | F22: =IF(I16="","",I16) -> PÓ COM FILLER | G22: =IF(I17="","",I17) | H22: PROJETO | I22: =J8 -> DER/PR-FX II | K22: ACEITAÇÃO
B23: PROPORÇÃO | C23: =IF(J13="","",J13) -> 39 | D23: =IF(J14="","",J14) -> 10 | E23: =IF(J15="","",J15) -> 15 | F23: =IF(J16="","",J16) -> 36 | G23: =IF(J17="","",J17) | H23: % PASS | I23: INFERIOR | J23: SUPERIOR
B24: # | C24: % PASS | D24: % PASS | E24: % PASS | F24: % PASS | G24: % PASS
B25: =FAIXAS!B5 -> #2 | H25: =IF(E25="","",SUM(C25:G25)) | I25: =IF(_xlfn.XLOOKUP($J$8&$I$23,FAIXAS!$4:$4,FAIXAS!$5:$5)=0,"",_xlfn.XLOOKUP($J$8&$I$23,FAIXAS!$4:$4,FAIXAS!$5:$5)) | J25: =IF(_xlfn.XLOOKUP($J$8&$J$23,FAIXAS!$4:$4,FAIXAS!$5:$5)=0,"",_xlfn.XLOOKUP($J$8&$J$23,FAIXAS!$4:$4,FAIXAS!$5:$5)) | K25: =IF(H25="","",IF(H25<I25,"DESCONFORME",IF(H25>J25,"DESCONFORME","CONFORME")))
B26: =FAIXAS!B6 -> #1 1/2" | H26: =IF(E26="","",SUM(C26:G26)) | I26: =IF(_xlfn.XLOOKUP($J$8&$I$23,FAIXAS!$4:$4,FAIXAS!$6:$6)=0,"",_xlfn.XLOOKUP($J$8&$I$23,FAIXAS!$4:$4,FAIXAS!$6:$6)) -> 100 | J26: =IF(_xlfn.XLOOKUP($J$8&$J$23,FAIXAS!$4:$4,FAIXAS!$6:$6)=0,"",_xlfn.XLOOKUP($J$8&$J$23,FAIXAS!$4:$4,FAIXAS!$6:$6)) -> 100 | K26: =IF(H26="","",IF(H26<I26,"DESCONFORME",IF(H26>J26,"DESCONFORME","CONFORME")))
B27: =FAIXAS!B7 -> #1" | H27: =IF(E27="","",SUM(C27:G27)) | I27: =IF(_xlfn.XLOOKUP($J$8&$I$23,FAIXAS!$4:$4,FAIXAS!$7:$7)=0,"",_xlfn.XLOOKUP($J$8&$I$23,FAIXAS!$4:$4,FAIXAS!$7:$7)) | J27: =IF(_xlfn.XLOOKUP($J$8&$J$23,FAIXAS!$4:$4,FAIXAS!$7:$7)=0,"",_xlfn.XLOOKUP($J$8&$J$23,FAIXAS!$4:$4,FAIXAS!$7:$7)) | K27: =IF(H27="","",IF(H27<I27,"DESCONFORME",IF(H27>J27,"DESCONFORME","CONFORME")))
B28: =FAIXAS!B8 -> #3/4" | H28: =IF(E28="","",SUM(C28:G28)) | I28: =IF(_xlfn.XLOOKUP($J$8&$I$23,FAIXAS!$4:$4,FAIXAS!$8:$8)=0,"",_xlfn.XLOOKUP($J$8&$I$23,FAIXAS!$4:$4,FAIXAS!$8:$8)) -> 60 | J28: =IF(_xlfn.XLOOKUP($J$8&$J$23,FAIXAS!$4:$4,FAIXAS!$8:$8)=0,"",_xlfn.XLOOKUP($J$8&$J$23,FAIXAS!$4:$4,FAIXAS!$8:$8)) -> 95 | K28: =IF(H28="","",IF(H28<I28,"DESCONFORME",IF(H28>J28,"DESCONFORME","CONFORME")))
B29: =FAIXAS!B9 -> #3/8" | H29: =IF(E29="","",SUM(C29:G29)) | I29: =IF(_xlfn.XLOOKUP($J$8&$I$23,FAIXAS!$4:$4,FAIXAS!$9:$9)=0,"",_xlfn.XLOOKUP($J$8&$I$23,FAIXAS!$4:$4,FAIXAS!$9:$9)) -> 40 | J29: =IF(_xlfn.XLOOKUP($J$8&$J$23,FAIXAS!$4:$4,FAIXAS!$9:$9)=0,"",_xlfn.XLOOKUP($J$8&$J$23,FAIXAS!$4:$4,FAIXAS!$9:$9)) -> 75 | K29: =IF(H29="","",IF(H29<I29,"DESCONFORME",IF(H29>J29,"DESCONFORME","CONFORME")))
B30: =FAIXAS!B10 -> #4 | H30: =IF(E30="","",SUM(C30:G30)) | I30: =IF(_xlfn.XLOOKUP($J$8&$I$23,FAIXAS!$4:$4,FAIXAS!$10:$10)=0,"",_xlfn.XLOOKUP($J$8&$I$23,FAIXAS!$4:$4,FAIXAS!$10:$10)) -> 25 | J30: =IF(_xlfn.XLOOKUP($J$8&$J$23,FAIXAS!$4:$4,FAIXAS!$10:$10)=0,"",_xlfn.XLOOKUP($J$8&$J$23,FAIXAS!$4:$4,FAIXAS!$10:$10)) -> 60 | K30: =IF(H30="","",IF(H30<I30,"DESCONFORME",IF(H30>J30,"DESCONFORME","CONFORME")))
B31: =FAIXAS!B11 -> #10 | H31: =IF(E31="","",SUM(C31:G31)) | I31: =IF(_xlfn.XLOOKUP($J$8&$I$23,FAIXAS!$4:$4,FAIXAS!$11:$11)=0,"",_xlfn.XLOOKUP($J$8&$I$23,FAIXAS!$4:$4,FAIXAS!$11:$11)) -> 15 | J31: =IF(_xlfn.XLOOKUP($J$8&$J$23,FAIXAS!$4:$4,FAIXAS!$11:$11)=0,"",_xlfn.XLOOKUP($J$8&$J$23,FAIXAS!$4:$4,FAIXAS!$11:$11)) -> 45 | K31: =IF(H31="","",IF(H31<I31,"DESCONFORME",IF(H31>J31,"DESCONFORME","CONFORME")))
B32: =FAIXAS!B12 -> #40 | H32: =IF(E32="","",SUM(C32:G32)) | I32: =IF(_xlfn.XLOOKUP($J$8&$I$23,FAIXAS!$4:$4,FAIXAS!$12:$12)=0,"",_xlfn.XLOOKUP($J$8&$I$23,FAIXAS!$4:$4,FAIXAS!$12:$12)) -> 8 | J32: =IF(_xlfn.XLOOKUP($J$8&$J$23,FAIXAS!$4:$4,FAIXAS!$12:$12)=0,"",_xlfn.XLOOKUP($J$8&$J$23,FAIXAS!$4:$4,FAIXAS!$12:$12)) -> 25 | K32: =IF(H32="","",IF(H32<I32,"DESCONFORME",IF(H32>J32,"DESCONFORME","CONFORME")))
B33: =FAIXAS!B13 -> #200 | H33: =IF(E33="","",SUM(C33:G33)) | I33: =IF(_xlfn.XLOOKUP($J$8&$I$23,FAIXAS!$4:$4,FAIXAS!$13:$13)=0,"",_xlfn.XLOOKUP($J$8&$I$23,FAIXAS!$4:$4,FAIXAS!$13:$13)) -> 2 | J33: =IF(_xlfn.XLOOKUP($J$8&$J$23,FAIXAS!$4:$4,FAIXAS!$13:$13)=0,"",_xlfn.XLOOKUP($J$8&$J$23,FAIXAS!$4:$4,FAIXAS!$13:$13)) -> 10 | K33: =IF(H33="","",IF(H33<I33,"DESCONFORME",IF(H33>J33,"DESCONFORME","CONFORME")))
B35: MATERIAL | C35: INSPEÇÕES E ENSAIOS | F35: CRITÉRIOS DE ACEITAÇÃO EPR | I35: MÉTODO / PROCEDIMENTO | J35: RESULTADOS | K35: ACEITAÇÃO
B36: MISTURA | C36: PERCENTUAL QUE PASSA NA # 200 < 2/3 # 40 | F36: # 200 < 2/3 # 40 | J36: =H32/3*2 -> #VALUE!
C37: PERCENTUAL # Nº 40 > 12 % | F37: > 12 % | J37: =H32
C38: PERCENTUAL # Nº 4 - # Nº40 = >20 <30 | F38: >20 <30 | J38: =H30-H32 -> #VALUE!
C39: Módulo de resiliência | F39: Conforme especifcado em projeto | I39: DNIT 135 – ME
B41: AGREGADOS | C41: Abrasão Los Angeles | F41: <40% | I41: ABNT 6465
C42: Durabilidade com Sulfato Agregado Graúdo | F42: <12% | I42: DNER-ME 089/94
C43: Durabilidade com Sulfato Agregado Miúdo | F43: <15% | I43: DNER-ME 089/94
C44: Equivalente de areia | F44: ≥40% | I44: ABNT NBR 12052
C45: CBR (ISC) Energia modificada | F45: CBR ≥100% | I45: DNER - ME 049/74
C46: Expansão | F46: Expansão ≤0,3% | I46: DNER - ME 049/74
C47: Índice de Forma - Lamelaridade | F47: ≤ 20%

Sheet FAIXAS
B2: PENEIRAS | D2: DNIT-FX 'A' | F2: DNIT-FX 'B' | H2: DNIT-FX 'C' | J2: DNIT-FX 'D' | L2: DNIT-FX 'E' | N2: DNIT-FX 'F' | P2: DER/PR-FX I | R2: DER/PR-FX II | T2: DER/PR-FX III | V2: DER/SP-FX 'A' | X2: DER/SP-FX 'B' | Z2: DER/SP-FX 'C' | AB2: DER/SP-FX 'D' | AD2: A | AF2: B | AH2: C | AJ2: D | AL2: E | AN2: F | AP2: G
B3: ASTM | C3: (mm) | D3: INFERIOR | E3: SUPERIOR | F3: INFERIOR | G3: SUPERIOR | H3: INFERIOR | I3: SUPERIOR | J3: INFERIOR | K3: SUPERIOR | L3: INFERIOR | M3: SUPERIOR | N3: INFERIOR | O3: SUPERIOR | P3: INFERIOR | Q3: SUPERIOR | R3: INFERIOR | S3: SUPERIOR | T3: INFERIOR | U3: SUPERIOR | V3: INFERIOR | W3: SUPERIOR | X3: INFERIOR | Y3: SUPERIOR | Z3: INFERIOR | AA3: SUPERIOR | AB3: INFERIOR | AC3: SUPERIOR | AD3: INFERIOR | AE3: SUPERIOR | AF3: INFERIOR | AG3: SUPERIOR | AH3: INFERIOR | AI3: SUPERIOR | AJ3: INFERIOR | AK3: SUPERIOR | AL3: INFERIOR | AM3: SUPERIOR | AN3: INFERIOR | AO3: SUPERIOR | AP3: INFERIOR | AQ3: SUPERIOR
D4: =D2&D3 -> DNIT-FX 'A'INFERIOR | E4: =D2&E3 -> DNIT-FX 'A'SUPERIOR | F4: =F2&F3 -> DNIT-FX 'B'INFERIOR | G4: =F2&G3 -> DNIT-FX 'B'SUPERIOR | H4: =H2&H3 -> DNIT-FX 'C'INFERIOR | I4: =H2&I3 -> DNIT-FX 'C'SUPERIOR | J4: =J2&J3 -> DNIT-FX 'D'INFERIOR | K4: =J2&K3 -> DNIT-FX 'D'SUPERIOR | L4: =L2&L3 -> DNIT-FX 'E'INFERIOR | M4: =L2&M3 -> DNIT-FX 'E'SUPERIOR | N4: =N2&N3 -> DNIT-FX 'F'INFERIOR | O4: =N2&O3 -> DNIT-FX 'F'SUPERIOR | P4: =P2&P3 -> DER/PR-FX IINFERIOR | Q4: =P2&Q3 -> DER/PR-FX ISUPERIOR | R4: =R2&R3 -> DER/PR-FX IIINFERIOR | S4: =R2&S3 -> DER/PR-FX IISUPERIOR | T4: =T2&T3 -> DER/PR-FX IIIINFERIOR | U4: =T2&U3 -> DER/PR-FX IIISUPERIOR | V4: =V2&V3 -> DER/SP-FX 'A'INFERIOR | W4: =V2&W3 -> DER/SP-FX 'A'SUPERIOR | X4: =X2&X3 -> DER/SP-FX 'B'INFERIOR | Y4: =X2&Y3 -> DER/SP-FX 'B'SUPERIOR | Z4: =Z2&Z3 -> DER/SP-FX 'C'INFERIOR | AA4: =Z2&AA3 -> DER/SP-FX 'C'SUPERIOR | AB4: =AB2&AB3 -> DER/SP-FX 'D'INFERIOR | AC4: =AB2&AC3 -> DER/SP-FX 'D'SUPERIOR | AD4: =AD2&AD3 -> AINFERIOR | AE4: =AD2&AE3 -> ASUPERIOR | AF4: =AF2&AF3 -> BINFERIOR | AG4: =AF2&AG3 -> BSUPERIOR | AH4: =AH2&AH3 -> CINFERIOR | AI4: =AH2&AI3 -> CSUPERIOR | AJ4: =AJ2&AJ3 -> DINFERIOR | AK4: =AJ2&AK3 -> DSUPERIOR | AL4: =AL2&AL3 -> EINFERIOR | AM4: =AL2&AM3 -> ESUPERIOR | AN4: =AN2&AN3 -> FINFERIOR | AO4: =AN2&AO3 -> FSUPERIOR | AP4: =AP2&AP3 -> GINFERIOR | AQ4: =AP2&AQ3 -> GSUPERIOR
B5: #2 | C5: 38.1 | D5: 100 | E5: 100 | F5: 100 | G5: 100 | P5: 100 | Q5: 100 | V5: 100 | W5: 100
B6: #1 1/2" | C6: 38.1 | P6: 90 | Q6: 100 | R6: 100 | S6: 100 | T6: 100 | U6: 100 | V6: 90 | W6: 10 | X6: 100 | Y6: 100
B7: #1" | C7: 25.4 | F7: 75 | G7: 90 | H7: 100 | I7: 100 | J7: 100 | K7: 100 | L7: 100 | M7: 100 | N7: 100 | O7: 100 | T7: 77 | U7: 100 | X7: 75 | Y7: 90 | Z7: 100 | AA7: 100 | AB7: 100 | AC7: 100
B8: #3/4" | C8: 19.1 | P8: 50 | Q8: 85 | R8: 60 | S8: 95 | T8: 66 | U8: 88 | V8: 50 | W8: 85 | X8: 60 | Y8: 85 | Z8: 60 | AA8: 95 | AB8: 75 | AC8: 100
B9: #3/8" | C9: 9.5 | D9: 30 | E9: 65 | F9: 40 | G9: 75 | H9: 50 | I9: 85 | J9: 60 | K9: 100 | P9: 35 | Q9: 65 | R9: 40 | S9: 75 | T9: 46 | U9: 71 | V9: 30 | W9: 60 | X9: 40 | Y9: 75 | Z9: 50 | AA9: 85 | AB9: 60 | AC9: 100
B10: #4 | C10: 4.8 | D10: 25 | E10: 55 | F10: 30 | G10: 60 | H10: 35 | I10: 65 | J10: 50 | K10: 85 | L10: 55 | M10: 100 | N10: 70 | O10: 100 | P10: 25 | Q10: 45 | R10: 25 | S10: 60 | T10: 30 | U10: 56 | V10: 25 | W10: 55 | X10: 30 | Y10: 60 | Z10: 35 | AA10: 65 | AB10: 50 | AC10: 85
B11: #10 | C11: 2 | D11: 15 | E11: 40 | F11: 20 | G11: 45 | H11: 25 | I11: 50 | J11: 40 | K11: 70 | L11: 40 | M11: 100 | N11: 55 | O11: 100 | P11: 18 | Q11: 35 | R11: 15 | S11: 45 | T11: 20 | U11: 44 | V11: 15 | W11: 40 | X11: 20 | Y11: 45 | Z11: 25 | AA11: 50 | AB11: 40 | AC11: 70
B12: #40 | C12: 0.42 | D12: 8 | E12: 20 | F12: 15 | G12: 30 | H12: 15 | I12: 30 | J12: 25 | K12: 45 | L12: 20 | M12: 50 | N12: 30 | O12: 70 | P12: 8 | Q12: 22 | R12: 8 | S12: 25 | T12: 8 | U12: 25 | V12: 8 | W12: 20 | X12: 15 | Y12: 30 | Z12: 15 | AA12: 30 | AB12: 25 | AC12: 45
B13: #200 | C13: 0.075 | D13: 2 | E13: 8 | F13: 5 | G13: 15 | H13: 5 | I13: 15 | J13: 10 | K13: 25 | L13: 6 | M13: 20 | N13: 8 | O13: 25 | P13: 3 | Q13: 9 | R13: 2 | S13: 10 | T13: 5 | U13: 10 | V13: 2 | W13: 8 | X13: 5 | Y13: 15 | Z13: 5 | AA13: 15 | AB13: 10 | AC13: 15
A15: FAIXAS
A16: =D2 -> DNIT-FX 'A'
A17: =F2 -> DNIT-FX 'B'
A18: =H2 -> DNIT-FX 'C'
A19: =J2 -> DNIT-FX 'D'
A20: =L2 -> DNIT-FX 'E'
A21: =N2 -> DNIT-FX 'F'
A22: =P2 -> DER/PR-FX I
A23: =R2 -> DER/PR-FX II
A24: =T2 -> DER/PR-FX III
A25: =V2 -> DER/SP-FX 'A'
A26: =X2 -> DER/SP-FX 'B'
A27: =Z2 -> DER/SP-FX 'C'
A28: =AB2 -> DER/SP-FX 'D'
A29: =AD2 -> A
A30: =AF2 -> B
A31: =AH2 -> C
A32: =AJ2 -> D
A33: =AL2 -> E
A34: =AN2 -> F
A35: =AP2 -> G
