Workbook

Sheet SOLO BRITA CIMENTO
C2: ANÁLISE DE DOSAGEM DE MATERIAIS - BASE OU SUB-BASE ESTABILIZADA QUIMICAMENTE | G2: FR-ENG-EPR-031 REV00 | K2: CONFORME
C5: DATA: | F5: REVISÃO: | K5: NÃO CONFORME.
C6: EMPRESA: | F6: TIPO DE MATERIAL: | G6: DER/SP - FX-II | K6: NÃO APRESENTADO
C7: CÓD. PROJETO: | F7: ORIGEM AGREG. GRAÚDO:
C8: CONTRATO: | F8: ORIGEM AGREG. MIÚDO:
C9: LOCAL: | F9: APROVAÇÃO:
B11: PARÂMETROS COMPOSIÇÃO
B12: C.B.R. (I.S.C.) MISTURA (%) | C12: UMIDADE ÓTIMA (%) | D12: ENERGIA DE COMPACTAÇÃO | E12: DENS. MISTURA (g/cm³) | F12: TEOR DE CIMENTO
B15: GRANULOMETRIA DA MISTURA
B16: GRANULOMETRIA | D16: LIMITES DA FAIXA | F16: ACEITAÇÃO
B17: # | C17: % PASS | D17: INFERIOR | E17: SUPERIOR
B18: =FAIXAS!B5 -> #2 | D18: =IF(_xlfn.XLOOKUP($G$6&$D$17,FAIXAS!$4:$4,FAIXAS!$5:$5)=0,"",_xlfn.XLOOKUP($G$6&$D$17,FAIXAS!$4:$4,FAIXAS!$5:$5)) -> 100 | E18: =IF(_xlfn.XLOOKUP($G$6&$E$17,FAIXAS!$4:$4,FAIXAS!$5:$5)=0,"",_xlfn.XLOOKUP($G$6&$E$17,FAIXAS!$4:$4,FAIXAS!$5:$5)) -> 100 | F18: =IF(C18="","",IF(C18<D18,"DESCONFORME",IF(C18>E18,"DESCONFORME","CONFORME")))
B19: =FAIXAS!B6 -> #1" | D19: =IF(_xlfn.XLOOKUP($G$6&$D$17,FAIXAS!$4:$4,FAIXAS!$6:$6)=0,"",_xlfn.XLOOKUP($G$6&$D$17,FAIXAS!$4:$4,FAIXAS!$6:$6)) -> 75 | E19: =IF(_xlfn.XLOOKUP($G$6&$E$17,FAIXAS!$4:$4,FAIXAS!$6:$6)=0,"",_xlfn.XLOOKUP($G$6&$E$17,FAIXAS!$4:$4,FAIXAS!$6:$6)) -> 95 | F19: =IF(C19="","",IF(C19<D19,"DESCONFORME",IF(C19>E19,"DESCONFORME","CONFORME")))
B20: =FAIXAS!B7 -> #3/8" | D20: =IF(_xlfn.XLOOKUP($G$6&$D$17,FAIXAS!$4:$4,FAIXAS!$7:$7)=0,"",_xlfn.XLOOKUP($G$6&$D$17,FAIXAS!$4:$4,FAIXAS!$7:$7)) -> 40 | E20: =IF(_xlfn.XLOOKUP($G$6&$E$17,FAIXAS!$4:$4,FAIXAS!$7:$7)=0,"",_xlfn.XLOOKUP($G$6&$E$17,FAIXAS!$4:$4,FAIXAS!$7:$7)) -> 75 | F20: =IF(C20="","",IF(C20<D20,"DESCONFORME",IF(C20>E20,"DESCONFORME","CONFORME")))
B21: =FAIXAS!B8 -> #4 | D21: =IF(_xlfn.XLOOKUP($G$6&$D$17,FAIXAS!$4:$4,FAIXAS!$8:$8)=0,"",_xlfn.XLOOKUP($G$6&$D$17,FAIXAS!$4:$4,FAIXAS!$8:$8)) -> 30 | E21: =IF(_xlfn.XLOOKUP($G$6&$E$17,FAIXAS!$4:$4,FAIXAS!$8:$8)=0,"",_xlfn.XLOOKUP($G$6&$E$17,FAIXAS!$4:$4,FAIXAS!$8:$8)) -> 60 | F21: =IF(C21="","",IF(C21<D21,"DESCONFORME",IF(C21>E21,"DESCONFORME","CONFORME")))
B22: =FAIXAS!B9 -> #10 | D22: =IF(_xlfn.XLOOKUP($G$6&$D$17,FAIXAS!$4:$4,FAIXAS!$9:$9)=0,"",_xlfn.XLOOKUP($G$6&$D$17,FAIXAS!$4:$4,FAIXAS!$9:$9)) -> 20 | E22: =IF(_xlfn.XLOOKUP($G$6&$E$17,FAIXAS!$4:$4,FAIXAS!$9:$9)=0,"",_xlfn.XLOOKUP($G$6&$E$17,FAIXAS!$4:$4,FAIXAS!$9:$9)) -> 45 | F22: =IF(C22="","",IF(C22<D22,"DESCONFORME",IF(C22>E22,"DESCONFORME","CONFORME")))
B23: =FAIXAS!B10 -> #40 | D23: =IF(_xlfn.XLOOKUP($G$6&$D$17,FAIXAS!$4:$4,FAIXAS!$10:$10)=0,"",_xlfn.XLOOKUP($G$6&$D$17,FAIXAS!$4:$4,FAIXAS!$10:$10)) -> 15 | E23: =IF(_xlfn.XLOOKUP($G$6&$E$17,FAIXAS!$4:$4,FAIXAS!$10:$10)=0,"",_xlfn.XLOOKUP($G$6&$E$17,FAIXAS!$4:$4,FAIXAS!$10:$10)) -> 30 | F23: =IF(C23="","",IF(C23<D23,"DESCONFORME",IF(C23>E23,"DESCONFORME","CONFORME")))
B24: =FAIXAS!B11 -> #200 | D24: =IF(_xlfn.XLOOKUP($G$6&$D$17,FAIXAS!$4:$4,FAIXAS!$11:$11)=0,"",_xlfn.XLOOKUP($G$6&$D$17,FAIXAS!$4:$4,FAIXAS!$11:$11)) -> 5 | E24: =IF(_xlfn.XLOOKUP($G$6&$E$17,FAIXAS!$4:$4,FAIXAS!$11:$11)=0,"",_xlfn.XLOOKUP($G$6&$E$17,FAIXAS!$4:$4,FAIXAS!$11:$11)) -> 15 | F24: =IF(C24="","",IF(C24<D24,"DESCONFORME",IF(C24>E24,"DESCONFORME","CONFORME")))
B26: MATERIAL | C26: INSPEÇÕES E ENSAIOS | D26: CRITÉRIOS DE ACEITAÇÃO EPR | E26: MÉTODO / PROCEDIMENTO | F26: RESULTADOS | G26: ACEITAÇÃO
B27: SOLO | C27: Granulometria por peneiramento do Solo | E27: NBR 7181
C28: Percentual passante na #4 | D28: de 50 a 100%
C29: Percentual passante na #40 | D29: de 15 a 100%
C30: Percentual passante na #200 | D30: de 5 a 35%
C31: Ensaio caracterização | D31: Conforme especificado em projeto / norma técnica | E31: DNER - ME 122/82; DNER - ME 083/63
C32: C.B.R. (I.S.C.)
C33: Expansão
C34: Dens. Seca Máx. (g/cm³)
C35: Classificação HRB do Solo
C36: Limite de Liquidez (LL) (Material passante na #40) | D36: ≤ 40% | E36: NBR 6459
C37: Índice de Plasticidade (Material passante na #40) | D37: ≤ 18% | E37: NBR 7180
B39: AGREGADOS | C39: Granulometria | E39: NBR 17054
C40: Durabilidade com Sulfato Agregado Graúdo | D40: <12% | E40: DNER-ME 089/94
C41: Durabilidade com Sulfato Agregado Miúdo | D41: <15% | E41: DNER-ME 089/94
C42: Abrasão Los Angeles (Material retido na #10) | D42: <50% ** Ver tráfego | E42: ABNT 6465
C43: Índice de Forma - Lamelaridade | D43: ≥0,5
B45: MISTURA | C45: Expansão | D45: <0,5% | E45: DNIT 172 – ME
C46: Módulo de resiliência | D46: Conforme especifcado em projeto | E46: DNIT 134 – ME
C47: Deformação Permanente (DP) | D47: Conforme especifcado em projeto | E47: DNIT 179 – IE
C48: Percentagem máximo em peso de solo seco a incorporar à mistura | D48: <35%
C49: Resistência à compressão simples aos 7 dias | D49: Conforme especifcado em projeto | E49: NBR 573
C50: Resistência à compressão simples aos 28 dias | D50: Conforme especifcado em projeto | E50: NBR 573
C51: Resistência à tração diametral aos 28 dias | D51: Conforme especifcado em projeto | E51: NBR 7222
C52: Massa específica aparente seca máxima | E52: NBR 7182
C53: Índice de Suporte Califórnia | E53: DNIT 172– ME
B55: CIMENTO PORTLAND | D55: Certificado fornecedor | E55: ABNT NBR 16697:2018
C56: Módulo de finura | E56: NBR 11579

Sheet FAIXAS
B2: PENEIRAS | D2: DER/SP - FX-I | F2: DER/SP - FX-II | H2: C | J2: D | L2: E | N2: F | P2: G | R2: H | T2: I | V2: J | X2: K | Z2: L | AB2: M | AD2: N | AF2: O | AH2: P | AJ2: Q | AL2: R | AN2: S | AP2: T
B3: ASTM | C3: (mm) | D3: INFERIOR | E3: SUPERIOR | F3: INFERIOR | G3: SUPERIOR | H3: INFERIOR | I3: SUPERIOR | J3: INFERIOR | K3: SUPERIOR | L3: INFERIOR | M3: SUPERIOR | N3: INFERIOR | O3: SUPERIOR | P3: INFERIOR | Q3: SUPERIOR | R3: INFERIOR | S3: SUPERIOR | T3: INFERIOR | U3: SUPERIOR | V3: INFERIOR | W3: SUPERIOR | X3: INFERIOR | Y3: SUPERIOR | Z3: INFERIOR | AA3: SUPERIOR | AB3: INFERIOR | AC3: SUPERIOR | AD3: INFERIOR | AE3: SUPERIOR | AF3: INFERIOR | AG3: SUPERIOR | AH3: INFERIOR | AI3: SUPERIOR | AJ3: INFERIOR | AK3: SUPERIOR | AL3: INFERIOR | AM3: SUPERIOR | AN3: INFERIOR | AO3: SUPERIOR | AP3: INFERIOR | AQ3: SUPERIOR
D4: =D2&D3 -> DER/SP - FX-IINFERIOR | E4: =D2&E3 -> DER/SP - FX-ISUPERIOR | F4: =F2&F3 -> DER/SP - FX-IIINFERIOR | G4: =F2&G3 -> DER/SP - FX-IISUPERIOR | H4: =H2&H3 -> CINFERIOR | I4: =H2&I3 -> CSUPERIOR | J4: =J2&J3 -> DINFERIOR | K4: =J2&K3 -> DSUPERIOR | L4: =L2&L3 -> EINFERIOR | M4: =L2&M3 -> ESUPERIOR | N4: =N2&N3 -> FINFERIOR | O4: =N2&O3 -> FSUPERIOR | P4: =P2&P3 -> GINFERIOR | Q4: =P2&Q3 -> GSUPERIOR | R4: =R2&R3 -> HINFERIOR | S4: =R2&S3 -> HSUPERIOR | T4: =T2&T3 -> IINFERIOR | U4: =T2&U3 -> ISUPERIOR | V4: =V2&V3 -> JINFERIOR | W4: =V2&W3 -> JSUPERIOR | X4: =X2&X3 -> KINFERIOR | Y4: =X2&Y3 -> KSUPERIOR | Z4: =Z2&Z3 -> LINFERIOR | AA4: =Z2&AA3 -> LSUPERIOR | AB4: =AB2&AB3 -> MINFERIOR | AC4: =AB2&AC3 -> MSUPERIOR | AD4: =AD2&AD3 -> NINFERIOR | AE4: =AD2&AE3 -> NSUPERIOR | AF4: =AF2&AF3 -> OINFERIOR | AG4: =AF2&AG3 -> OSUPERIOR | AH4: =AH2&AH3 -> PINFERIOR | AI4: =AH2&AI3 -> PSUPERIOR | AJ4: =AJ2&AJ3 -> QINFERIOR | AK4: =AJ2&AK3 -> QSUPERIOR | AL4: =AL2&AL3 -> RINFERIOR | AM4: =AL2&AM3 -> RSUPERIOR | AN4: =AN2&AN3 -> SINFERIOR | AO4: =AN2&AO3 -> SSUPERIOR | AP4: =AP2&AP3 -> TINFERIOR | AQ4: =AP2&AQ3 -> TSUPERIOR
B5: #2 | C5: 38.1 | D5: 100 | E5: 100 | F5: 100 | G5: 100
B6: #1" | C6: 25.4 | F6: 75 | G6: 95
B7: #3/8" | C7: 9.5 | D7: 30 | E7: 65 | F7: 40 | G7: 75
B8: #4 | C8: 4.8 | D8: 25 | E8: 55 | F8: 30 | G8: 60
B9: #10 | C9: 2 | D9: 15 | E9: 40 | F9: 20 | G9: 45
B10: #40 | C10: 0.42 | D10: 8 | E10: 20 | F10: 15 | G10: 30
B11: #200 | C11: 0.075 | D11: 2 | E11: 8 | F11: 5 | G11: 15
A13: FAIXAS
A14: =D2 -> DER/SP - FX-I
A15: =F2 -> DER/SP - FX-II
A16: =H2 -> C
A17: =J2 -> D
A18: =L2 -> E
A19: =N2 -> F
A20: =P2 -> G
A21: =R2 -> H
A22: =T2 -> I
A23: =V2 -> J
A24: =X2 -> K
A25: =Z2 -> L
A26: =AB2 -> M
A27: =AD2 -> N
A28: =AF2 -> O
A29: =AH2 -> P
A30: =AJ2 -> Q
A31: =AL2 -> R
A32: =AN2 -> S
A33: =AP2 -> T
