Workbook

Sheet MISTURAS ASFÁLTICAS
C2: ANÁLISE DE DOSAGEM DE MATERIAIS - MISTURAS ASFÁLTICAS | G2: FR-ENG-EPR-033 REV00 | L2: CONFORME
C5: DATA: | F5: REVISÃO: | L5: NÃO CONFORME.
C6: EMPRESA: | F6: ORIGEM AGREG. GAÚDO: | L6: NÃO APRESENTADO
C7: CÓD. PROJETO: | F7: ORIGEM AGREG. MIÚDO:
C8: CONTRATO: | F8: ORIGEM CAP:
C9: LOCAL: | F9: APROVAÇÃO:
B11: FAIXA ESPECIFICADA | C11: DNIT-FX 'C-9,5' | E11: DENS. FRAÇÕES DA COMPOSIÇÃO
B12: TIPO DE CAMADA | C12: LIGAÇÃO | E12: GRAUDO | F12: Dens. Real | G12: 2.874
B13: TIPO LIGANTE | C13: AB08 | F13: Dens. Aparente | G13: 2.718
B14: TEOR DE LIGANTE | C14: 5.6 | E14: MÉDIO | F14: Dens. Real | G14: 2.88
B15: DENS. APARENTE MISTURA COMPACTADA | C15: 2.4 | F15: Dens. Aparente | G15: 2.736
E16: FINO | F16: Dens. Real | G16: 2.782
B17: COMPOSIÇÃO DOS AGREGADOS | E17: ABSORÇÃO | G17: 2
B18: GRAÚDO | C18: =C29-C33 -> -34.9 | E18: Dens. Ligante | G18: 1.006
B19: MÉDIO | C19: =C32-C42 -> 46.3
B20: FINO | C20: =C42 -> 5.9 | F20: DENS. EFETIVA MISTURA AGREGADOS
F21: Dens. Real | G21: =100/(C18/G12+C19/G14+C20/G16) -> 16.51852
B22: DENS. MÁX. MIST. BETUMINOSA - RICE (DMM) - DNIT 427/20 | D22: 2.513 | F22: Dens. Aparente | G22: =100/(C18/G13+C19/G15+C20/G16) -> 16.121317
F23: Dens. Efetiva | G23: =(100-C14)/((100/D22)-(C14/G18)) -> 2.7580988
B25: GRANULOMETRIA | D25: LIMITES DA FAIXA | F25: ACEITAÇÃO
B26: # | C26: % PASS | D26: INFERIOR | E26: SUPERIOR
B27: #1 1/2" | D27: =IF(_xlfn.XLOOKUP($C$11&$D$26,FAIXAS!$4:$4,FAIXAS!$5:$5)=0,"",_xlfn.XLOOKUP($C$11&$D$26,FAIXAS!$4:$4,FAIXAS!$5:$5)) | E27: =IF(_xlfn.XLOOKUP($C$11&$E$26,FAIXAS!$4:$4,FAIXAS!$5:$5)=0,"",_xlfn.XLOOKUP($C$11&$E$26,FAIXAS!$4:$4,FAIXAS!$5:$5)) | F27: =IF(C27="","",IF(C27<D27,"DESCONFORME",IF(C27>E27,"DESCONFORME","CONFORME")))
B28: #1" | D28: =IF(_xlfn.XLOOKUP($C$11&$D$26,FAIXAS!$4:$4,FAIXAS!$6:$6)=0,"",_xlfn.XLOOKUP($C$11&$D$26,FAIXAS!$4:$4,FAIXAS!$6:$6)) | E28: =IF(_xlfn.XLOOKUP($C$11&$E$26,FAIXAS!$4:$4,FAIXAS!$6:$6)=0,"",_xlfn.XLOOKUP($C$11&$E$26,FAIXAS!$4:$4,FAIXAS!$6:$6)) | F28: =IF(C28="","",IF(C28<D28,"DESCONFORME",IF(C28>E28,"DESCONFORME","CONFORME")))
B29: #3/4" | D29: =IF(_xlfn.XLOOKUP($C$11&$D$26,FAIXAS!$4:$4,FAIXAS!$7:$7)=0,"",_xlfn.XLOOKUP($C$11&$D$26,FAIXAS!$4:$4,FAIXAS!$7:$7)) | E29: =IF(_xlfn.XLOOKUP($C$11&$E$26,FAIXAS!$4:$4,FAIXAS!$7:$7)=0,"",_xlfn.XLOOKUP($C$11&$E$26,FAIXAS!$4:$4,FAIXAS!$7:$7)) | F29: =IF(C29="","",IF(C29<D29,"DESCONFORME",IF(C29>E29,"DESCONFORME","CONFORME")))
B30: #1/2" | C30: 100 | D30: =IF(_xlfn.XLOOKUP($C$11&$D$26,FAIXAS!$4:$4,FAIXAS!$8:$8)=0,"",_xlfn.XLOOKUP($C$11&$D$26,FAIXAS!$4:$4,FAIXAS!$8:$8)) -> 100 | E30: =IF(_xlfn.XLOOKUP($C$11&$E$26,FAIXAS!$4:$4,FAIXAS!$8:$8)=0,"",_xlfn.XLOOKUP($C$11&$E$26,FAIXAS!$4:$4,FAIXAS!$8:$8)) -> 100 | F30: =IF(C30="","",IF(C30<D30,"DESCONFORME",IF(C30>E30,"DESCONFORME","CONFORME"))) -> CONFORME
B31: #3/8" | C31: 85.4 | D31: =IF(_xlfn.XLOOKUP($C$11&$D$26,FAIXAS!$4:$4,FAIXAS!$9:$9)=0,"",_xlfn.XLOOKUP($C$11&$D$26,FAIXAS!$4:$4,FAIXAS!$9:$9)) -> 90 | E31: =IF(_xlfn.XLOOKUP($C$11&$E$26,FAIXAS!$4:$4,FAIXAS!$9:$9)=0,"",_xlfn.XLOOKUP($C$11&$E$26,FAIXAS!$4:$4,FAIXAS!$9:$9)) -> 10 | F31: =IF(C31="","",IF(C31<D31,"DESCONFORME",IF(C31>E31,"DESCONFORME","CONFORME"))) -> DESCONFORME
B32: #1/4" | C32: 52.2 | D32: =IF(_xlfn.XLOOKUP($C$11&$D$26,FAIXAS!$4:$4,FAIXAS!$10:$10)=0,"",_xlfn.XLOOKUP($C$11&$D$26,FAIXAS!$4:$4,FAIXAS!$10:$10)) -> 65 | E32: =IF(_xlfn.XLOOKUP($C$11&$E$26,FAIXAS!$4:$4,FAIXAS!$10:$10)=0,"",_xlfn.XLOOKUP($C$11&$E$26,FAIXAS!$4:$4,FAIXAS!$10:$10)) -> 89 | F32: =IF(C32="","",IF(C32<D32,"DESCONFORME",IF(C32>E32,"DESCONFORME","CONFORME"))) -> DESCONFORME
B33: #4 | C33: 34.9 | D33: =IF(_xlfn.XLOOKUP($C$11&$D$26,FAIXAS!$4:$4,FAIXAS!$11:$11)=0,"",_xlfn.XLOOKUP($C$11&$D$26,FAIXAS!$4:$4,FAIXAS!$11:$11)) -> 53 | E33: =IF(_xlfn.XLOOKUP($C$11&$E$26,FAIXAS!$4:$4,FAIXAS!$11:$11)=0,"",_xlfn.XLOOKUP($C$11&$E$26,FAIXAS!$4:$4,FAIXAS!$11:$11)) -> 83 | F33: =IF(C33="","",IF(C33<D33,"DESCONFORME",IF(C33>E33,"DESCONFORME","CONFORME"))) -> DESCONFORME
B34: #8 | C34: 14.9 | D34: =IF(_xlfn.XLOOKUP($C$11&$D$26,FAIXAS!$4:$4,FAIXAS!$12:$12)=0,"",_xlfn.XLOOKUP($C$11&$D$26,FAIXAS!$4:$4,FAIXAS!$12:$12)) -> 32 | E34: =IF(_xlfn.XLOOKUP($C$11&$E$26,FAIXAS!$4:$4,FAIXAS!$12:$12)=0,"",_xlfn.XLOOKUP($C$11&$E$26,FAIXAS!$4:$4,FAIXAS!$12:$12)) -> 667 | F34: =IF(C34="","",IF(C34<D34,"DESCONFORME",IF(C34>E34,"DESCONFORME","CONFORME"))) -> DESCONFORME
B35: #10 | D35: =IF(_xlfn.XLOOKUP($C$11&$D$26,FAIXAS!$4:$4,FAIXAS!$13:$13)=0,"",_xlfn.XLOOKUP($C$11&$D$26,FAIXAS!$4:$4,FAIXAS!$13:$13)) | E35: =IF(_xlfn.XLOOKUP($C$11&$E$26,FAIXAS!$4:$4,FAIXAS!$13:$13)=0,"",_xlfn.XLOOKUP($C$11&$E$26,FAIXAS!$4:$4,FAIXAS!$13:$13)) | F35: =IF(C35="","",IF(C35<D35,"DESCONFORME",IF(C35>E35,"DESCONFORME","CONFORME")))
B36: #16 | C36: 5.9 | D36: =IF(_xlfn.XLOOKUP($C$11&$D$26,FAIXAS!$4:$4,FAIXAS!$14:$14)=0,"",_xlfn.XLOOKUP($C$11&$D$26,FAIXAS!$4:$4,FAIXAS!$14:$14)) -> 20 | E36: =IF(_xlfn.XLOOKUP($C$11&$E$26,FAIXAS!$4:$4,FAIXAS!$14:$14)=0,"",_xlfn.XLOOKUP($C$11&$E$26,FAIXAS!$4:$4,FAIXAS!$14:$14)) -> 52 | F36: =IF(C36="","",IF(C36<D36,"DESCONFORME",IF(C36>E36,"DESCONFORME","CONFORME"))) -> DESCONFORME
B37: #30 | C37: 5.9 | D37: =IF(_xlfn.XLOOKUP($C$11&$D$26,FAIXAS!$4:$4,FAIXAS!$15:$15)=0,"",_xlfn.XLOOKUP($C$11&$D$26,FAIXAS!$4:$4,FAIXAS!$15:$15)) -> 13 | E37: =IF(_xlfn.XLOOKUP($C$11&$E$26,FAIXAS!$4:$4,FAIXAS!$15:$15)=0,"",_xlfn.XLOOKUP($C$11&$E$26,FAIXAS!$4:$4,FAIXAS!$15:$15)) -> 40 | F37: =IF(C37="","",IF(C37<D37,"DESCONFORME",IF(C37>E37,"DESCONFORME","CONFORME"))) -> DESCONFORME
B38: #40 | D38: =IF(_xlfn.XLOOKUP($C$11&$D$26,FAIXAS!$4:$4,FAIXAS!$16:$16)=0,"",_xlfn.XLOOKUP($C$11&$D$26,FAIXAS!$4:$4,FAIXAS!$16:$16)) | E38: =IF(_xlfn.XLOOKUP($C$11&$E$26,FAIXAS!$4:$4,FAIXAS!$16:$16)=0,"",_xlfn.XLOOKUP($C$11&$E$26,FAIXAS!$4:$4,FAIXAS!$16:$16)) | F38: =IF(C38="","",IF(C38<D38,"DESCONFORME",IF(C38>E38,"DESCONFORME","CONFORME")))
B39: #50 | C39: 5.9 | D39: =IF(_xlfn.XLOOKUP($C$11&$D$26,FAIXAS!$4:$4,FAIXAS!$17:$17)=0,"",_xlfn.XLOOKUP($C$11&$D$26,FAIXAS!$4:$4,FAIXAS!$17:$17)) -> 8 | E39: =IF(_xlfn.XLOOKUP($C$11&$E$26,FAIXAS!$4:$4,FAIXAS!$17:$17)=0,"",_xlfn.XLOOKUP($C$11&$E$26,FAIXAS!$4:$4,FAIXAS!$17:$17)) -> 29 | F39: =IF(C39="","",IF(C39<D39,"DESCONFORME",IF(C39>E39,"DESCONFORME","CONFORME"))) -> DESCONFORME
B40: #80 | D40: =IF(_xlfn.XLOOKUP($C$11&$D$26,FAIXAS!$4:$4,FAIXAS!$18:$18)=0,"",_xlfn.XLOOKUP($C$11&$D$26,FAIXAS!$4:$4,FAIXAS!$18:$18)) | E40: =IF(_xlfn.XLOOKUP($C$11&$E$26,FAIXAS!$4:$4,FAIXAS!$18:$18)=0,"",_xlfn.XLOOKUP($C$11&$E$26,FAIXAS!$4:$4,FAIXAS!$18:$18)) | F40: =IF(C40="","",IF(C40<D40,"DESCONFORME",IF(C40>E40,"DESCONFORME","CONFORME")))
B41: #100 | C41: 5.9 | D41: =IF(_xlfn.XLOOKUP($C$11&$D$26,FAIXAS!$4:$4,FAIXAS!$19:$19)=0,"",_xlfn.XLOOKUP($C$11&$D$26,FAIXAS!$4:$4,FAIXAS!$19:$19)) -> 4 | E41: =IF(_xlfn.XLOOKUP($C$11&$E$26,FAIXAS!$4:$4,FAIXAS!$19:$19)=0,"",_xlfn.XLOOKUP($C$11&$E$26,FAIXAS!$4:$4,FAIXAS!$19:$19)) -> 19 | F41: =IF(C41="","",IF(C41<D41,"DESCONFORME",IF(C41>E41,"DESCONFORME","CONFORME"))) -> CONFORME
B42: #200 | C42: 5.9 | D42: =IF(_xlfn.XLOOKUP($C$11&$D$26,FAIXAS!$4:$4,FAIXAS!$20:$20)=0,"",_xlfn.XLOOKUP($C$11&$D$26,FAIXAS!$4:$4,FAIXAS!$20:$20)) -> 2 | E42: =IF(_xlfn.XLOOKUP($C$11&$E$26,FAIXAS!$4:$4,FAIXAS!$20:$20)=0,"",_xlfn.XLOOKUP($C$11&$E$26,FAIXAS!$4:$4,FAIXAS!$20:$20)) -> 10 | F42: =IF(C42="","",IF(C42<D42,"DESCONFORME",IF(C42>E42,"DESCONFORME","CONFORME"))) -> CONFORME
B44: MATERIAL | C44: INSPEÇÕES E ENSAIOS | D44: CRITÉRIOS DE ACEITAÇÃO EPR | E44: MÉTODO / PROCEDIMENTO | F44: RESULTADOS | G44: ACEITAÇÃO
B45: MISTURA | C45: Volume de Vazios (Vv) | D45: 3 a 5% | E45: DNIT 449 – PRO | F45: =(D22-C15)/D22*100 -> 4.4966176
C46: Vazios do Agregado Mineral (VAM) | D46: Tabela 5 DNIT 031/2024 – ES | E46: DNIT 449 – PRO | F46: =((C15*C14)/G18)+F45 -> 17.856459
C47: Relação Betume Vazio (RBV) | D47: 65 - 75 % | E47: DNIT 449 – PRO | F47: =(F46-F45)/F46*100 -> 74.817976
C48: Relação Finos/Betume | D48: 0,6 a 1,6 | E48: DNIT 449 – PRO | F48: =C42*(100-C14)/(100*C14) -> 0.99457143
C49: Estabilidade mínima, kgf | D49: > 500 | E49: DNIT 447 – ME
C50: Resistência à Tração por Compressão Diametral Estática a 25oC, mínima, Mpa | D50: >0,65 | E50: DNIT 136 – ME
C51: Equivalente de Areia (EA) | D51: >60 | E51: DNIT 450 – ME
C52: Resistência a danos por umidade induzida (DUI) | D52: >0,70 | E52: DNIT 180 – ME
C53: Módulo de resiliência | D53: Conforme especifcado em projeto | E53: DNIT 135 – ME
C54: Parâmetros de fadiga | D54: Conforme especifcado em projeto | E54: DNIT 183 – ME
C55: Flow Number (FN) | D55: Conforme especifcado em projeto | E55: DNIT 184 – ME
C56: Espessura da camada compactada a ser utiizada | D56: > 2,5xTNM agregado | E56: DNIT 031/2024 – ES
C57: Granulometria dos agregados da composição | D57: A fração retida entre duas peneiras consecutivas não deve ser inferior a 4 % do total, exceto entre as duas peneiras de maior malha de cada faixa. | E57: DNIT 031/2024 – ES
B59: LIGANTE ASFÁLTICO | C59: Penetração (100 g, 5 s, 25º C) | D59: =IF($C$13="","-",INDEX('TIPOS DE LIGANTE'!$D$4:$L$21,MATCH('MISTURAS ASFÁLTICAS'!$C59,'TIPOS DE LIGANTE'!$B$4:$B$21,0),MATCH('MISTURAS ASFÁLTICAS'!$C$13,'TIPOS DE LIGANTE'!$D$3:$L$3,0))) -> 30 a 70 | E59: ABNT NBR 6576
C60: Ponto de amolecimento | D60: =IF($C$13="","-",INDEX('TIPOS DE LIGANTE'!$D$4:$L$21,MATCH('MISTURAS ASFÁLTICAS'!$C60,'TIPOS DE LIGANTE'!$B$4:$B$21,0),MATCH('MISTURAS ASFÁLTICAS'!$C$13,'TIPOS DE LIGANTE'!$D$3:$L$3,0))) -> 50 | E60: ABNT NBR 6560
C61: Viscosidade Brookfield a diferentes temperaturas para o estabelecimento da curva viscosidade x temperatura (135°C) | D61: =IF($C$13="","-",INDEX('TIPOS DE LIGANTE'!$D$4:$L$21,MATCH('MISTURAS ASFÁLTICAS'!$C61,'TIPOS DE LIGANTE'!$B$4:$B$21,0),MATCH('MISTURAS ASFÁLTICAS'!$C$13,'TIPOS DE LIGANTE'!$D$3:$L$3,0))) -> N.A. | E61: ABNT NBR 15184
C62: Viscosidade Brookfield a diferentes temperaturas para o estabelecimento da curva viscosidade x temperatura (150°C) | D62: =IF($C$13="","-",INDEX('TIPOS DE LIGANTE'!$D$4:$L$21,MATCH('MISTURAS ASFÁLTICAS'!$C62,'TIPOS DE LIGANTE'!$B$4:$B$21,0),MATCH('MISTURAS ASFÁLTICAS'!$C$13,'TIPOS DE LIGANTE'!$D$3:$L$3,0))) -> N.A. | E62: ABNT NBR 15184
C63: Viscosidade Brookfield a diferentes temperaturas para o estabelecimento da curva viscosidade x temperatura (175°C) | D63: =IF($C$13="","-",INDEX('TIPOS DE LIGANTE'!$D$4:$L$21,MATCH('MISTURAS ASFÁLTICAS'!$C63,'TIPOS DE LIGANTE'!$B$4:$B$21,0),MATCH('MISTURAS ASFÁLTICAS'!$C$13,'TIPOS DE LIGANTE'!$D$3:$L$3,0))) -> 1300 a 1700 | E63: ABNT NBR 15529
C64: Viscosidade Brookfield a diferentes temperaturas para o estabelecimento da curva viscosidade x temperatura (177°C) | D64: =IF($C$13="","-",INDEX('TIPOS DE LIGANTE'!$D$4:$L$21,MATCH('MISTURAS ASFÁLTICAS'!$C64,'TIPOS DE LIGANTE'!$B$4:$B$21,0),MATCH('MISTURAS ASFÁLTICAS'!$C$13,'TIPOS DE LIGANTE'!$D$3:$L$3,0))) -> N.A. | E64: ABNT NBR 15184
C65: Ponto de Fulgor | D65: =IF($C$13="","-",INDEX('TIPOS DE LIGANTE'!$D$4:$L$21,MATCH('MISTURAS ASFÁLTICAS'!$C65,'TIPOS DE LIGANTE'!$B$4:$B$21,0),MATCH('MISTURAS ASFÁLTICAS'!$C$13,'TIPOS DE LIGANTE'!$D$3:$L$3,0))) -> 235 | E65: ABNT NBR 11341
C66: Ensaio de separação de fase | D66: =IF($C$13="","-",INDEX('TIPOS DE LIGANTE'!$D$4:$L$21,MATCH('MISTURAS ASFÁLTICAS'!$C66,'TIPOS DE LIGANTE'!$B$4:$B$21,0),MATCH('MISTURAS ASFÁLTICAS'!$C$13,'TIPOS DE LIGANTE'!$D$3:$L$3,0))) -> 9 | E66: ABNT NBR 15166
C67: Recuperação elástica a 25◦C, 20cm, mín. | D67: =IF($C$13="","-",INDEX('TIPOS DE LIGANTE'!$D$4:$L$21,MATCH('MISTURAS ASFÁLTICAS'!$C67,'TIPOS DE LIGANTE'!$B$4:$B$21,0),MATCH('MISTURAS ASFÁLTICAS'!$C$13,'TIPOS DE LIGANTE'!$D$3:$L$3,0))) -> 50 | E67: ABNT NBR 15086
C68: Solubilidade em Tricloroetileno | D68: =IF($C$13="","-",INDEX('TIPOS DE LIGANTE'!$D$4:$L$21,MATCH('MISTURAS ASFÁLTICAS'!$C68,'TIPOS DE LIGANTE'!$B$4:$B$21,0),MATCH('MISTURAS ASFÁLTICAS'!$C$13,'TIPOS DE LIGANTE'!$D$3:$L$3,0))) -> N.A. | E68: ABNT NBR 14855
C69: Estabilidade à Estocagem, máx. | D69: =IF($C$13="","-",INDEX('TIPOS DE LIGANTE'!$D$4:$L$21,MATCH('MISTURAS ASFÁLTICAS'!$C69,'TIPOS DE LIGANTE'!$B$4:$B$21,0),MATCH('MISTURAS ASFÁLTICAS'!$C$13,'TIPOS DE LIGANTE'!$D$3:$L$3,0))) -> 9
C70: Ductilidade a 25ºC | D70: =IF($C$13="","-",INDEX('TIPOS DE LIGANTE'!$D$4:$L$21,MATCH('MISTURAS ASFÁLTICAS'!$C70,'TIPOS DE LIGANTE'!$B$4:$B$21,0),MATCH('MISTURAS ASFÁLTICAS'!$C$13,'TIPOS DE LIGANTE'!$D$3:$L$3,0))) -> 50 | E70: ABNT NBR 6293
C71: RTFOT | D71: =IF($C$13="","-",INDEX('TIPOS DE LIGANTE'!$D$4:$L$21,MATCH('MISTURAS ASFÁLTICAS'!$C71,'TIPOS DE LIGANTE'!$B$4:$B$21,0),MATCH('MISTURAS ASFÁLTICAS'!$C$13,'TIPOS DE LIGANTE'!$D$3:$L$3,0))) -> N.A. | E71: ASTM D 2872
C72: Variação em massa | D72: =IF($C$13="","-",INDEX('TIPOS DE LIGANTE'!$D$4:$L$21,MATCH('MISTURAS ASFÁLTICAS'!$C72,'TIPOS DE LIGANTE'!$B$4:$B$21,0),MATCH('MISTURAS ASFÁLTICAS'!$C$13,'TIPOS DE LIGANTE'!$D$3:$L$3,0))) -> 1 | E72: ABNT NBR 15235
C73: Porcentagem de penetração original, mín. | D73: =IF($C$13="","-",INDEX('TIPOS DE LIGANTE'!$D$4:$L$21,MATCH('MISTURAS ASFÁLTICAS'!$C73,'TIPOS DE LIGANTE'!$B$4:$B$21,0),MATCH('MISTURAS ASFÁLTICAS'!$C$13,'TIPOS DE LIGANTE'!$D$3:$L$3,0))) -> 55 | E73: ABNT NBR 6576
C74: Aumento do Ponto de Amolecimento | D74: =IF($C$13="","-",INDEX('TIPOS DE LIGANTE'!$D$4:$L$21,MATCH('MISTURAS ASFÁLTICAS'!$C74,'TIPOS DE LIGANTE'!$B$4:$B$21,0),MATCH('MISTURAS ASFÁLTICAS'!$C$13,'TIPOS DE LIGANTE'!$D$3:$L$3,0))) -> 10 | E74: ABNT NBR 6560
C75: Penetração retida | D75: =IF($C$13="","-",INDEX('TIPOS DE LIGANTE'!$D$4:$L$21,MATCH('MISTURAS ASFÁLTICAS'!$C75,'TIPOS DE LIGANTE'!$B$4:$B$21,0),MATCH('MISTURAS ASFÁLTICAS'!$C$13,'TIPOS DE LIGANTE'!$D$3:$L$3,0))) -> N.A. | E75: ABNT NBR 6576
C76: Porcentagem da recuperação elástica original | D76: =IF($C$13="","-",INDEX('TIPOS DE LIGANTE'!$D$4:$L$21,MATCH('MISTURAS ASFÁLTICAS'!$C76,'TIPOS DE LIGANTE'!$B$4:$B$21,0),MATCH('MISTURAS ASFÁLTICAS'!$C$13,'TIPOS DE LIGANTE'!$D$3:$L$3,0))) -> 100 | E76: ABNT NBR 15086
B78: AGREGADO GRAÚDO | C78: Abrasão Los Angeles | D78: < 40% | E78: ABNT NBR 16974
C79: Índice de Degradação, Se LA > 50% | D79: IDml ≤ 5% e IDm ≤ 8% | E79: DNER ME 401/99
C80: Índice de forma e partículas lamelares | D80: Índice de formamédio com n ≥ 4 e Partículas lamelares ≤ 10% | E80: DNER-ME 424/20; DNER-ME 425/20
C81: Durabilidade com sulfato de sódio, em 5 ciclos | D81: ≤ 12% | E81: AASHTO T-104
C82: Absorção de água | D82: < 1,5% | E82: DNER-ME 195/97
C83: Adesividade ao ligante betuminoso | D83: Boa/Ótima | E83: ABNT NBR 12583
C84: Sanidade | D84: < 12% | E84: DNER-ME 089/94
C85: Massa específica efetiva dos agregados | D85: - | E85: AASHTO T209; DNIT 428/2020
C86: Massa específica real dos agregados | D86: - | E86: DNER ME 413/2021
C87: Massa específica aparente dos agregados | D87: - | E87: DNER ME 413/2021
C88: Absorção | D88: - | E88: DNER ME 413/2021
C89: Granulometria | D89: Individual | E89: ABNT NBR 17054
C90: Umidade de agregados graúdos | D90: Individual | E90: -
B92: AGREGADO MIÚDO | C92: Equivalente de areia de cada fração do agregado miúdo | D92: ≥ 60% | E92: ABNT NBR 12052
C93: Adsorção de Azul de Metileno | D93: < 10% | E93: AASHTO T 330-07/19
C94: Durabilidade ao Sulfato de Sódio | D94: <15% | E94: AASHTO T-104
C95: Adesividade ao ligante betuminoso | D95: Boa/Ótima | E95: DNER-ME 079/94
C96: Sanidade | D96: < 15% | E96: DNER-ME 089/94
C97: Granulometria | D97: Individual | E97: ABNT NBR 17054
B99: CAL CH-I | C99: Teor Óxido de Cálcio (CaO) | D99: >50% | E99: Certificado de Qualidade emitido pelo fabricante
C100: Granulometria | D100: Aceita quando as variações estiverem compreendidas entre os limites da faixa definida | E100: ABNT NBR 17054
C101: Fenolftaleína | D101: - | E101: -

Sheet FAIXAS
B2: PENEIRAS | D2: DNIT-FX 'A-25' | F2: DNIT-FX 'B-19' | H2: DNIT-FX 'C-12,5' | J2: DNIT-FX 'C-9,5' | L2: DER/PR-FX 'A' | N2: DER/PR-FX 'B' | P2: DER/PR-FX 'C' | R2: DER/PR-FX 'D' | T2: DER/PR-FX 'E' | V2: DER/PR-FX 'F' | X2: DER/SP-'25' | Z2: DER/SP-'19' | AB2: DER/SP-'12,5' | AD2: DER/SP-'9,5' | AF2: DER/SP-'4,75' | AH2: a | AJ2: b | AL2: c | AN2: d | AP2: e
B3: ASTM | C3: (mm) | D3: INFERIOR | E3: SUPERIOR | F3: INFERIOR | G3: SUPERIOR | H3: INFERIOR | I3: SUPERIOR | J3: INFERIOR | K3: SUPERIOR | L3: INFERIOR | M3: SUPERIOR | N3: INFERIOR | O3: SUPERIOR | P3: INFERIOR | Q3: SUPERIOR | R3: INFERIOR | S3: SUPERIOR | T3: INFERIOR | U3: SUPERIOR | V3: INFERIOR | W3: SUPERIOR | X3: INFERIOR | Y3: SUPERIOR | Z3: INFERIOR | AA3: SUPERIOR | AB3: INFERIOR | AC3: SUPERIOR | AD3: INFERIOR | AE3: SUPERIOR | AF3: INFERIOR | AG3: SUPERIOR | AH3: INFERIOR | AI3: SUPERIOR | AJ3: INFERIOR | AK3: SUPERIOR | AL3: INFERIOR | AM3: SUPERIOR | AN3: INFERIOR | AO3: SUPERIOR | AP3: INFERIOR | AQ3: SUPERIOR
D4: =D2&D3 -> DNIT-FX 'A-25'INFERIOR | E4: =D2&E3 -> DNIT-FX 'A-25'SUPERIOR | F4: =F2&F3 -> DNIT-FX 'B-19'INFERIOR | G4: =F2&G3 -> DNIT-FX 'B-19'SUPERIOR | H4: =H2&H3 -> DNIT-FX 'C-12,5'INFERIOR | I4: =H2&I3 -> DNIT-FX 'C-12,5'SUPERIOR | J4: =J2&J3 -> DNIT-FX 'C-9,5'INFERIOR | K4: =J2&K3 -> DNIT-FX 'C-9,5'SUPERIOR | L4: =L2&L3 -> DER/PR-FX 'A'INFERIOR | M4: =L2&M3 -> DER/PR-FX 'A'SUPERIOR | N4: =N2&N3 -> DER/PR-FX 'B'INFERIOR | O4: =N2&O3 -> DER/PR-FX 'B'SUPERIOR | P4: =P2&P3 -> DER/PR-FX 'C'INFERIOR | Q4: =P2&Q3 -> DER/PR-FX 'C'SUPERIOR | R4: =R2&R3 -> DER/PR-FX 'D'INFERIOR | S4: =R2&S3 -> DER/PR-FX 'D'SUPERIOR | T4: =T2&T3 -> DER/PR-FX 'E'INFERIOR | U4: =T2&U3 -> DER/PR-FX 'E'SUPERIOR | V4: =V2&V3 -> DER/PR-FX 'F'INFERIOR | W4: =V2&W3 -> DER/PR-FX 'F'SUPERIOR | X4: =X2&X3 -> DER/SP-'25'INFERIOR | Y4: =X2&Y3 -> DER/SP-'25'SUPERIOR | Z4: =Z2&Z3 -> DER/SP-'19'INFERIOR | AA4: =Z2&AA3 -> DER/SP-'19'SUPERIOR | AB4: =AB2&AB3 -> DER/SP-'12,5'INFERIOR | AC4: =AB2&AC3 -> DER/SP-'12,5'SUPERIOR | AD4: =AD2&AD3 -> DER/SP-'9,5'INFERIOR | AE4: =AD2&AE3 -> DER/SP-'9,5'SUPERIOR | AF4: =AF2&AF3 -> DER/SP-'4,75'INFERIOR | AG4: =AF2&AG3 -> DER/SP-'4,75'SUPERIOR | AH4: =AH2&AH3 -> aINFERIOR | AI4: =AH2&AI3 -> aSUPERIOR | AJ4: =AJ2&AJ3 -> bINFERIOR | AK4: =AJ2&AK3 -> bSUPERIOR | AL4: =AL2&AL3 -> cINFERIOR | AM4: =AL2&AM3 -> cSUPERIOR | AN4: =AN2&AN3 -> dINFERIOR | AO4: =AN2&AO3 -> dSUPERIOR | AP4: =AP2&AP3 -> eINFERIOR | AQ4: =AP2&AQ3 -> eSUPERIOR
B5: #1 1/2" | C5: 38.1 | D5: 100 | E5: 100 | L5: 100 | M5: 100 | N5: 100 | O5: 100 | X5: 100 | Y5: 100
B6: #1" | C6: 25.4 | D6: 90 | E6: 100 | F6: 100 | G6: 100 | L6: 95 | M6: 100 | N6: 90 | O6: 100 | P6: 100 | Q6: 100 | X6: 90 | Y6: 100 | Z6: 100 | AA6: 100
B7: #3/4" | C7: 19.1 | D7: 75 | E7: 89 | F7: 90 | G7: 100 | H7: 100 | I7: 100 | L7: 80 | M7: 100 | P7: 90 | Q7: 100 | R7: 100 | S7: 100 | T7: 100 | U7: 100 | X7: 70 | Y7: 90 | Z7: 90 | AA7: 100 | AB7: 100 | AC7: 100
B8: #1/2" | C8: 12.7 | D8: 58 | E8: 78 | F8: 70 | G8: 89 | H8: 90 | I8: 100 | J8: 100 | K8: 100 | N8: 56 | O8: 80 | R8: 80 | S8: 100 | T8: 90 | U8: 100 | X8: 45 | Y8: 75 | Z8: 70 | AA8: 90 | AB8: 90 | AC8: 100 | AD8: 100 | AE8: 100
B9: #3/8" | C9: 9.5 | D9: 48 | E9: 71 | F9: 55 | G9: 82 | H9: 73 | I9: 89 | J9: 90 | K9: 10 | L9: 45 | M9: 80 | P9: 56 | Q9: 80 | R9: 70 | S9: 90 | T9: 75 | U9: 90 | V9: 100 | W9: 100 | X9: 35 | Y9: 65 | Z9: 60 | AA9: 80 | AB9: 70 | AC9: 90 | AD9: 90 | AE9: 100 | AF9: 100 | AG9: 100
B10: #1/4" | C10: 6.3 | D10: 35 | E10: 61 | F10: 42 | G10: 70 | H10: 53 | I10: 78 | J10: 65 | K10: 89
B11: #4 | C11: 4.8 | D11: 29 | E11: 55 | F11: 35 | G11: 63 | H11: 44 | I11: 72 | J11: 53 | K11: 83 | L11: 28 | M11: 60 | N11: 29 | O11: 59 | P11: 35 | Q11: 65 | R11: 50 | S11: 70 | T11: 45 | U11: 65 | V11: 75 | W11: 100 | X11: 25 | Y11: 50 | Z11: 35 | AA11: 55 | AB11: 45 | AC11: 70 | AD11: 50 | AE11: 70 | AF11: 80 | AG11: 100
B12: #8 | C12: 2.36 | D12: 19 | E12: 45 | F12: 23 | G12: 49 | H12: 28 | I12: 58 | J12: 32 | K12: 667
B13: #10 | C13: 2 | L13: 20 | M13: 45 | N13: 18 | O13: 42 | P13: 22 | Q13: 46 | R13: 33 | S13: 48 | T13: 25 | U13: 35 | V13: 50 | W13: 90 | X13: 15 | Y13: 40 | Z13: 20 | AA13: 40 | AB13: 25 | AC13: 50 | AD13: 25 | AE13: 45 | AF13: 50 | AG13: 90
B14: #16 | C14: 1.18 | D14: 13 | E14: 36 | F14: 16 | G14: 37 | H14: 17 | I14: 45 | J14: 20 | K14: 52
B15: #30 | C15: 0.6 | D15: 9 | E15: 28 | F15: 10 | G15: 28 | H15: 11 | I15: 35 | J15: 13 | K15: 40
B16: #40 | C16: 0.42 | L16: 10 | M16: 32 | N16: 8 | O16: 22 | P16: 8 | Q16: 24 | R16: 15 | S16: 25 | T16: 8 | U16: 17 | V16: 20 | W16: 50 | X16: 7 | Y16: 20 | Z16: 10 | AA16: 20 | AB16: 10 | AC16: 25 | AD16: 12 | AE16: 25 | AF16: 20 | AG16: 50
B17: #50 | C17: 0.3 | D17: 5 | E17: 21 | F17: 6 | G17: 20 | H17: 6 | I17: 25 | J17: 8 | K17: 29
B18: #80 | C18: 0.18 | L18: 8 | M18: 20 | R18: 8 | S18: 17 | T18: 5 | U18: 13 | V18: 7 | W18: 28 | X18: 5 | Y18: 15 | Z18: 5 | AA18: 15 | AB18: 5 | AC18: 15 | AD18: 8 | AE18: 17 | AF18: 7 | AG18: 28
B19: #100 | C19: 0.15 | D19: 2 | E19: 14 | F19: 4 | G19: 13 | H19: 3 | I19: 17 | J19: 4 | K19: 19
B20: #200 | C20: 0.075 | D20: 1 | E20: 7 | F20: 3 | G20: 8 | H20: 2 | I20: 10 | J20: 2 | K20: 10 | L20: 3 | M20: 8 | N20: 1 | O20: 7 | P20: 2 | Q20: 8 | R20: 4 | S20: 10 | T20: 2 | U20: 10 | V20: 3 | W20: 10 | X20: 2 | Y20: 8 | Z20: 2 | AA20: 8 | AB20: 2 | AC20: 10 | AD20: 4 | AE20: 10 | AF20: 3 | AG20: 10
A22: FAIXAS | B22: CAMADA
A23: DNIT-FX 'A-25' | B23: ROLAMENTO
A24: DNIT-FX 'B-19' | B24: LIGAÇÃO
A25: DNIT-FX 'C-12,5' | B25: REPERFILAGEM
A26: DNIT-FX 'C-9,5'
A27: DER/PR-FX 'A'
A28: DER/PR-FX 'B'
A29: DER/PR-FX 'C'
A30: DER/PR-FX 'D'
A31: DER/PR-FX 'E'
A32: DER/PR-FX 'F'
A33: DER/SP-'25'
A34: DER/SP-'19'
A35: DER/SP-'12,5'
A36: DER/SP-'9,5'
A37: DER/SP-'4,75'
A38: =AH2 -> a
A39: =AJ2 -> b
A40: =AL2 -> c
A41: =AN2 -> d
A42: =AP2 -> e

Sheet TIPOS DE LIGANTE
B2: ENSAIO | C2: Unidade | D2: CONVENCIONAL | H2: POLIMERIZADO | L2: BORRACHA
D3: CAP 30-45 | E3: CAP 50-70 | F3: CAP 85-100 | G3: CAP 150-200 | H3: CAP 50-65 | I3: CAP 55-75 | J3: CAP 60-85 | K3: CAP 65-90 | L3: AB08
B4: Penetração (100 g, 5 s, 25º C) | C4: 0,1mm | D4: 30 a 45 | E4: 50 a 70 | F4: 85 a 100 | G4: 150 a 200 | H4: 45 a 70 | I4: 45 a 70 | J4: 40 a 70 | K4: 40 a 70 | L4: 30 a 70
B5: Ponto de amolecimento | C5: ◦C | D5: 52 | E5: 46 | F5: 43 | G5: 37 | H5: 50 | I5: 55 | J5: 60 | K5: 65 | L5: 50
B6: Viscosidade Brookfield a diferentes temperaturas para o estabelecimento da curva viscosidade x temperatura (135°C) | C6: cP | D6: 374 | E6: 274 | F6: 214 | G6: 155 | H6: 1500 | I6: 3000 | J6: 3000 | K6: 3000 | L6: N.A.
B7: Viscosidade Brookfield a diferentes temperaturas para o estabelecimento da curva viscosidade x temperatura (150°C) | C7: cP | D7: 203 | E7: 112 | F7: 97 | G7: 81 | H7: 1000 | I7: 2000 | J7: 2000 | K7: 2000 | L7: N.A.
B8: Viscosidade Brookfield a diferentes temperaturas para o estabelecimento da curva viscosidade x temperatura (175°C) | C8: cP | D8: N.A. | E8: N.A. | F8: N.A. | G8: N.A. | H8: N.A. | I8: N.A. | J8: N.A. | K8: N.A. | L8: 1300 a 1700
B9: Viscosidade Brookfield a diferentes temperaturas para o estabelecimento da curva viscosidade x temperatura (177°C) | C9: cP | D9: 76 a 285 | E9: 57 a 285 | F9: 28 a 114 | G9: 28 a 114 | H9: 500 | I9: 1000 | J9: 1000 | K9: 1000 | L9: N.A.
B10: Ponto de Fulgor | C10: ◦C | D10: 235 | E10: 235 | F10: 235 | G10: 235 | H10: 235 | I10: 235 | J10: 235 | K10: 235 | L10: 235
B11: Ensaio de separação de fase | C11: ◦C | D11: N.A. | E11: N.A. | F11: N.A. | G11: N.A. | H11: 5 | I11: 5 | J11: 5 | K11: 5 | L11: 9
B12: Recuperação elástica a 25◦C, 20cm, mín. | C12: % | D12: N.A. | E12: N.A. | F12: N.A. | G12: N.A. | H12: 65 | I12: 75 | J12: 85 | K12: 90 | L12: 50
B13: Solubilidade em Tricloroetileno | C13: % massa | D13: 99.5 | E13: 99.5 | F13: 99.5 | G13: 99.5 | H13: 99.5 | I13: 99.5 | J13: 99.5 | K13: 99.5 | L13: N.A.
B14: Estabilidade à Estocagem, máx. | C14: ◦C | D14: N.A. | E14: N.A. | F14: N.A. | G14: N.A. | H14: N.A. | I14: N.A. | J14: N.A. | K14: N.A. | L14: 9
B15: Ductilidade a 25ºC | C15: cm | D15: 60 | E15: 60 | F15: 100 | G15: 100 | H15: 60 | I15: 60 | J15: 100 | K15: 100 | L15: 50
B16: RTFOT | C16: 163 ◦C, 85min | D16: N.A. | E16: N.A. | F16: N.A. | G16: N.A. | H16: N.A. | I16: N.A. | J16: N.A. | K16: N.A. | L16: N.A.
B17: Variação em massa | C17: % massa | D17: 0.5 | E17: 0.5 | F17: 0.5 | G17: 0.5 | H17: 1 | I17: 1 | J17: 1 | K17: 1 | L17: 1
B18: Porcentagem de penetração original, mín. | C18: cm | D18: 10 | E18: 20 | F18: 50 | G18: 50 | H18: 60 | I18: 60 | J18: 60 | K18: 60 | L18: 55
B19: Aumento do Ponto de Amolecimento | C19: ◦C | D19: 8 | E19: 8 | F19: 8 | G19: 8 | H19: 6 | I19: 7 | J19: 7 | K19: 7 | L19: 10
B20: Penetração retida | C20: % | D20: 60 | E20: 55 | F20: 55 | G20: 50 | H20: 60 | I20: 60 | J20: 60 | K20: 60 | L20: N.A.
B21: Porcentagem da recuperação elástica original | C21: % | D21: N.A. | E21: N.A. | F21: N.A. | G21: N.A. | H21: 80 | I21: 80 | J21: 80 | K21: 80 | L21: 100
