Workbook

Sheet MRAF
C2: ANÁLISE DE DOSAGEM DE MATERIAIS - MRAF | G2: FR-ENG-EPR-035 REV00 | L2: CONFORME
C5: DATA: | F5: REVISÃO: | L5: NÃO CONFORME.
C6: EMPRESA: | F6: ORIGEM AGREGADO: | L6: NÃO APRESENTADO
C7: CÓD. PROJETO: | F7: ORIGEM EMULSÃO:
C8: CONTRATO: | F8: TIPO DE FILLER:
C9: LOCAL: | F9: APROVAÇÃO:
B11: FAIXA ESPECIFICADA | C11: TIPO EMULSÃO | D11: TEOR DE EMULSÃO | E11: RESIDUAL DE ASFALTO | F11: PERCENTUAL FILLER | G11: TAXA DE APLICAÇÃO
B12: DNIT-FX I | D12: 5.6
B14: COMPOSIÇÃO MISTURA (%) | G14: ESPESSURA DA CAMADA
B15: PEDRISCO 3/8" | C15: PÓ DE PEDRA | D15: FILLER | E15: ÁGUA
B18: GRANULOMETRIA | D18: LIMITES DA FAIXA | F18: ACEITAÇÃO
B19: # | C19: % PASS | D19: INFERIOR | E19: SUPERIOR
B20: #1/2" | C20: 100 | D20: =IF(_xlfn.XLOOKUP($B$12&$D$19,FAIXAS!$4:$4,FAIXAS!$5:$5)=0,"",_xlfn.XLOOKUP($B$12&$D$19,FAIXAS!$4:$4,FAIXAS!$5:$5)) | E20: =IF(_xlfn.XLOOKUP($B$12&$E$19,FAIXAS!$4:$4,FAIXAS!$5:$5)=0,"",_xlfn.XLOOKUP($B$12&$E$19,FAIXAS!$4:$4,FAIXAS!$5:$5)) | F20: =IF(C20="","",IF(C20<D20,"DESCONFORME",IF(C20>E20,"DESCONFORME","CONFORME"))) -> DESCONFORME
B21: #3/8" | C21: 85.4 | D21: =IF(_xlfn.XLOOKUP($B$12&$D$19,FAIXAS!$4:$4,FAIXAS!$6:$6)=0,"",_xlfn.XLOOKUP($B$12&$D$19,FAIXAS!$4:$4,FAIXAS!$6:$6)) -> 100 | E21: =IF(_xlfn.XLOOKUP($B$12&$E$19,FAIXAS!$4:$4,FAIXAS!$6:$6)=0,"",_xlfn.XLOOKUP($B$12&$E$19,FAIXAS!$4:$4,FAIXAS!$6:$6)) -> 100 | F21: =IF(C21="","",IF(C21<D21,"DESCONFORME",IF(C21>E21,"DESCONFORME","CONFORME"))) -> DESCONFORME
B22: #4 | C22: 34.9 | D22: =IF(_xlfn.XLOOKUP($B$12&$D$19,FAIXAS!$4:$4,FAIXAS!$7:$7)=0,"",_xlfn.XLOOKUP($B$12&$D$19,FAIXAS!$4:$4,FAIXAS!$7:$7)) -> 90 | E22: =IF(_xlfn.XLOOKUP($B$12&$E$19,FAIXAS!$4:$4,FAIXAS!$7:$7)=0,"",_xlfn.XLOOKUP($B$12&$E$19,FAIXAS!$4:$4,FAIXAS!$7:$7)) -> 100 | F22: =IF(C22="","",IF(C22<D22,"DESCONFORME",IF(C22>E22,"DESCONFORME","CONFORME"))) -> DESCONFORME
B23: #8 | C23: 14.9 | D23: =IF(_xlfn.XLOOKUP($B$12&$D$19,FAIXAS!$4:$4,FAIXAS!$8:$8)=0,"",_xlfn.XLOOKUP($B$12&$D$19,FAIXAS!$4:$4,FAIXAS!$8:$8)) -> 65 | E23: =IF(_xlfn.XLOOKUP($B$12&$E$19,FAIXAS!$4:$4,FAIXAS!$8:$8)=0,"",_xlfn.XLOOKUP($B$12&$E$19,FAIXAS!$4:$4,FAIXAS!$8:$8)) -> 90 | F23: =IF(C23="","",IF(C23<D23,"DESCONFORME",IF(C23>E23,"DESCONFORME","CONFORME"))) -> DESCONFORME
B24: #16 | C24: 5.9 | D24: =IF(_xlfn.XLOOKUP($B$12&$D$19,FAIXAS!$4:$4,FAIXAS!$9:$9)=0,"",_xlfn.XLOOKUP($B$12&$D$19,FAIXAS!$4:$4,FAIXAS!$9:$9)) -> 45 | E24: =IF(_xlfn.XLOOKUP($B$12&$E$19,FAIXAS!$4:$4,FAIXAS!$9:$9)=0,"",_xlfn.XLOOKUP($B$12&$E$19,FAIXAS!$4:$4,FAIXAS!$9:$9)) -> 70 | F24: =IF(C24="","",IF(C24<D24,"DESCONFORME",IF(C24>E24,"DESCONFORME","CONFORME"))) -> DESCONFORME
B25: #30 | C25: 5.9 | D25: =IF(_xlfn.XLOOKUP($B$12&$D$19,FAIXAS!$4:$4,FAIXAS!$10:$10)=0,"",_xlfn.XLOOKUP($B$12&$D$19,FAIXAS!$4:$4,FAIXAS!$10:$10)) -> 30 | E25: =IF(_xlfn.XLOOKUP($B$12&$E$19,FAIXAS!$4:$4,FAIXAS!$10:$10)=0,"",_xlfn.XLOOKUP($B$12&$E$19,FAIXAS!$4:$4,FAIXAS!$10:$10)) -> 50 | F25: =IF(C25="","",IF(C25<D25,"DESCONFORME",IF(C25>E25,"DESCONFORME","CONFORME"))) -> DESCONFORME
B26: #50 | C26: 5.9 | D26: =IF(_xlfn.XLOOKUP($B$12&$D$19,FAIXAS!$4:$4,FAIXAS!$11:$11)=0,"",_xlfn.XLOOKUP($B$12&$D$19,FAIXAS!$4:$4,FAIXAS!$11:$11)) -> 18 | E26: =IF(_xlfn.XLOOKUP($B$12&$E$19,FAIXAS!$4:$4,FAIXAS!$11:$11)=0,"",_xlfn.XLOOKUP($B$12&$E$19,FAIXAS!$4:$4,FAIXAS!$11:$11)) -> 30 | F26: =IF(C26="","",IF(C26<D26,"DESCONFORME",IF(C26>E26,"DESCONFORME","CONFORME"))) -> DESCONFORME
B27: #100 | C27: 5.9 | D27: =IF(_xlfn.XLOOKUP($B$12&$D$19,FAIXAS!$4:$4,FAIXAS!$12:$12)=0,"",_xlfn.XLOOKUP($B$12&$D$19,FAIXAS!$4:$4,FAIXAS!$12:$12)) -> 10 | E27: =IF(_xlfn.XLOOKUP($B$12&$E$19,FAIXAS!$4:$4,FAIXAS!$12:$12)=0,"",_xlfn.XLOOKUP($B$12&$E$19,FAIXAS!$4:$4,FAIXAS!$12:$12)) -> 21 | F27: =IF(C27="","",IF(C27<D27,"DESCONFORME",IF(C27>E27,"DESCONFORME","CONFORME"))) -> DESCONFORME
B28: #200 | C28: 5.9 | D28: =IF(_xlfn.XLOOKUP($B$12&$D$19,FAIXAS!$4:$4,FAIXAS!$13:$13)=0,"",_xlfn.XLOOKUP($B$12&$D$19,FAIXAS!$4:$4,FAIXAS!$13:$13)) -> 5 | E28: =IF(_xlfn.XLOOKUP($B$12&$E$19,FAIXAS!$4:$4,FAIXAS!$13:$13)=0,"",_xlfn.XLOOKUP($B$12&$E$19,FAIXAS!$4:$4,FAIXAS!$13:$13)) -> 15 | F28: =IF(C28="","",IF(C28<D28,"DESCONFORME",IF(C28>E28,"DESCONFORME","CONFORME"))) -> CONFORME
B30: MATERIAL | C30: INSPEÇÕES E ENSAIOS | D30: CRITÉRIOS DE ACEITAÇÃO EPR | E30: MÉTODO / PROCEDIMENTO | F30: RESULTADOS | G30: ACEITAÇÃO
B31: MISTURA | C31: Perda por abrasão em meio aquoso – uma hora de imersão (WTAT) | D31: ≤538 g/m² | E31: ABNT NBR 14746
C32: Excesso de asfalto por efeito de roda e adesão de areia (LWT) | D32: ≤538 g/m² | E32: ABNT NBR 14841
C33: Adesão por molhagem (adesividade) | D33: ≥90% | E33: ABNT NBR 14757
C34: Coesão por molhagem (30 minutos) | D34: ≥12 kg.cm | E34: ABNT NBR 14798
C35: Coesão por molhagem (60 minutos) | D35: ≥20 kg.cm | E35: ABNT NBR 14758
B37: EMULSÃO ASFÁLTICA MODIFICADA POR POLÍMERO | C37: Viscosidade Saybolt-Furol, 25ºC | D37: 90s (Certificado Fornecedor) | E37: ABNT NBR 14491
C38: Ensaio de Peneiramento | D38: < 0,1 % m/m (Certificado Fornecedor) | E38: ABNT NBR-14393
C39: Carga da Partícula | D39: Positiva (Certificado Fornecedor) | E39: ABNT NBR 6567
C40: Ensaio de Sedimentação | D40: <5 % (Certificado Fornecedor) | E40: ABNT NBR 6570
C41: Separação de fases | D41: Quando a % de resíduo asfáltico na parte superior e inferior não diferirem em > 3,0% (Certificado Fornecedor) | E41: EGL - NLT – 328/91
C42: Ensaio de Resíduo | D42: < 62% (Certificado Fornecedor) | E42: ASTM D-244
C43: Penetração a 25ºC (CAP residual) | D43: 40 a 150 (0,1mm) (Certificado Fornecedor) | E43: ABNT NBR 6576
C44: Ponto de amolecimento (CAP residual) | D44: > 55 (Certificado Fornecedor) | E44: ABNT NBR 6560
C45: Recuperação Elástica a 25ºC, 20cm (CAP residual) | D45: > 70 (Certificado Fornecedor) | E45: EN-PV/ME-E-003-NLT-329
B47: AGREGADO GRAÚDO | C47: Abrasão Los Angeles | D47: < 40% | E47: ABNT NBR 16974
C48: Durabilidade ao Sulfato de Sódio | D48: ≤ 12% | E48: AASHTO T-104
C49: Índice de forma e partículas lamelares | D49: Índice de formamédio com n ≥ 4 e Partículas lamelares ≤ 10% | E49: DNER-ME 424/20; DNER-ME 425/20
C50: Granulometria | D50: Individual | E50: DNER-ME 083
...

Sheet FAIXAS
B2: PENEIRAS | D2: DNIT-FX I | F2: DNIT-FX II | H2: DNIT-FX III | J2: DER/PR-FX I | L2: DER/PR-FX II | N2: DER/PR-FX III | P2: DER/SP-FX I | R2: DER/SP-FX II | T2: DER/SP-FX III | V2: G | X2: H | Z2: I | AB2: J | AD2: K | AF2: L | AH2: M | AJ2: N | AL2: O | AN2: P | AP2: R
B3: ASTM | C3: (mm) | D3: INFERIOR | E3: SUPERIOR | F3: INFERIOR | G3: SUPERIOR | H3: INFERIOR | I3: SUPERIOR | J3: INFERIOR | K3: SUPERIOR | L3: INFERIOR | M3: SUPERIOR | N3: INFERIOR | O3: SUPERIOR | P3: INFERIOR | Q3: SUPERIOR | R3: INFERIOR | S3: SUPERIOR | T3: INFERIOR | U3: SUPERIOR | V3: INFERIOR | W3: SUPERIOR | X3: INFERIOR | Y3: SUPERIOR | Z3: INFERIOR | AA3: SUPERIOR | AB3: INFERIOR | AC3: SUPERIOR | AD3: INFERIOR | AE3: SUPERIOR | AF3: INFERIOR | AG3: SUPERIOR | AH3: INFERIOR | AI3: SUPERIOR | AJ3: INFERIOR | AK3: SUPERIOR | AL3: INFERIOR | AM3: SUPERIOR | AN3: INFERIOR | AO3: SUPERIOR | AP3: INFERIOR | AQ3: SUPERIOR
D4: =D2&D3 -> DNIT-FX IINFERIOR | E4: =D2&E3 -> DNIT-FX ISUPERIOR | F4: =F2&F3 -> DNIT-FX IIINFERIOR | G4: =F2&G3 -> DNIT-FX IISUPERIOR | H4: =H2&H3 -> DNIT-FX IIIINFERIOR | I4: =H2&I3 -> DNIT-FX IIISUPERIOR | J4: =J2&J3 -> DER/PR-FX IINFERIOR | K4: =J2&K3 -> DER/PR-FX ISUPERIOR | L4: =L2&L3 -> DER/PR-FX IIINFERIOR | M4: =L2&M3 -> DER/PR-FX IISUPERIOR | N4: =N2&N3 -> DER/PR-FX IIIINFERIOR | O4: =N2&O3 -> DER/PR-FX IIISUPERIOR | P4: =P2&P3 -> DER/SP-FX IINFERIOR | Q4: =P2&Q3 -> DER/SP-FX ISUPERIOR | R4: =R2&R3 -> DER/SP-FX IIINFERIOR | S4: =R2&S3 -> DER/SP-FX IISUPERIOR | T4: =T2&T3 -> DER/SP-FX IIIINFERIOR | U4: =T2&U3 -> DER/SP-FX IIISUPERIOR | V4: =V2&V3 -> GINFERIOR | W4: =V2&W3 -> GSUPERIOR | X4: =X2&X3 -> HINFERIOR | Y4: =X2&Y3 -> HSUPERIOR | Z4: =Z2&Z3 -> IINFERIOR | AA4: =Z2&AA3 -> ISUPERIOR | AB4: =AB2&AB3 -> JINFERIOR | AC4: =AB2&AC3 -> JSUPERIOR | AD4: =AD2&AD3 -> KINFERIOR | AE4: =AD2&AE3 -> KSUPERIOR | AF4: =AF2&AF3 -> LINFERIOR | AG4: =AF2&AG3 -> LSUPERIOR | AH4: =AH2&AH3 -> MINFERIOR | AI4: =AH2&AI3 -> MSUPERIOR | AJ4: =AJ2&AJ3 -> NINFERIOR | AK4: =AJ2&AK3 -> NSUPERIOR | AL4: =AL2&AL3 -> OINFERIOR | AM4: =AL2&AM3 -> OSUPERIOR | AN4: =AN2&AN3 -> PINFERIOR | AO4: =AN2&AO3 -> PSUPERIOR | AP4: =AP2&AP3 -> RINFERIOR | AQ4: =AP2&AQ3 -> RSUPERIOR
B5: #1/2" | C5: 12.7 | H5: 100 | I5: 100 | N5: 100 | O5: 100 | T5: 100 | U5: 100
B6: #3/8" | C6: 9.5 | D6: 100 | E6: 100 | F6: 100 | G6: 100 | H6: 85 | I6: 100 | J6: 100 | K6: 100 | L6: 100 | M6: 100 | N6: 85 | O6: 100 | P6: 100 | Q6: 100 | R6: 100 | S6: 100 | T6: 85 | U6: 100
B7: #4 | C7: 4.8 | D7: 90 | E7: 100 | F7: 70 | G7: 90 | H7: 60 | I7: 87 | J7: 90 | K7: 100 | L7: 70 | M7: 90 | N7: 60 | O7: 87 | P7: 90 | Q7: 100 | R7: 70 | S7: 90 | T7: 60 | U7: 87
B8: #8 | C8: 2.36 | D8: 65 | E8: 90 | F8: 45 | G8: 70 | H8: 40 | I8: 60 | J8: 65 | K8: 90 | L8: 45 | M8: 70 | N8: 40 | O8: 60 | P8: 65 | Q8: 90 | R8: 45 | S8: 70 | T8: 40 | U8: 60
B9: #16 | C9: 1.18 | D9: 45 | E9: 70 | F9: 28 | G9: 50 | H9: 28 | I9: 45 | J9: 45 | K9: 70 | L9: 28 | M9: 50 | N9: 28 | O9: 45 | P9: 45 | Q9: 70 | R9: 28 | S9: 50 | T9: 28 | U9: 45
B10: #30 | C10: 0.6 | D10: 30 | E10: 50 | F10: 19 | G10: 34 | H10: 19 | I10: 34 | J10: 30 | K10: 50 | L10: 19 | M10: 34 | N10: 19 | O10: 34 | P10: 30 | Q10: 50 | R10: 19 | S10: 34 | T10: 19 | U10: 34
B11: #50 | C11: 0.3 | D11: 18 | E11: 30 | F11: 12 | G11: 25 | H11: 14 | I11: 25 | J11: 18 | K11: 30 | L11: 12 | M11: 25 | N11: 14 | O11: 25 | P11: 18 | Q11: 30 | R11: 12 | S11: 25 | T11: 14 | U11: 25
B12: #100 | C12: 0.15 | D12: 10 | E12: 21 | F12: 7 | G12: 18 | H12: 8 | I12: 17 | J12: 10 | K12: 21 | L12: 7 | M12: 18 | N12: 8 | O12: 17 | P12: 10 | Q12: 21 | R12: 7 | S12: 18 | T12: 8 | U12: 17
B13: #200 | C13: 0.075 | D13: 5 | E13: 15 | F13: 5 | G13: 15 | H13: 4 | I13: 8 | J13: 5 | K13: 15 | L13: 5 | M13: 15 | N13: 4 | O13: 8 | P13: 5 | Q13: 15 | R13: 5 | S13: 15 | T13: 4 | U13: 8
A15: FAIXAS
A16: =D2 -> DNIT-FX I
A17: =F2 -> DNIT-FX II
A18: =H2 -> DNIT-FX III
A19: =J2 -> DER/PR-FX I
A20: =L2 -> DER/PR-FX II
A21: =N2 -> DER/PR-FX III
A22: =P2 -> DER/SP-FX I
A23: =R2 -> DER/SP-FX II
A24: =T2 -> DER/SP-FX III
A25: =V2 -> G
A26: =X2 -> H
A27: =Z2 -> I
A28: =AB2 -> J
A29: =AD2 -> K
A30: =AF2 -> L
A31: =AH2 -> M
A32: =AJ2 -> N
A33: =AL2 -> O
A34: =AN2 -> P
A35: =AP2 -> R

Sheet TIPOS DE LIGANTE
B2: ENSAIO | C2: Unidade | D2: CONVENCIONAL | H2: POLIMERIZADO | L2: BORRACHA
D3: CAP 30-45 | E3: CAP 50-70 | F3: CAP 85-100 | G3: CAP 150-200 | H3: CAP 50-65 | I3: CAP 55-75 | J3: CAP 60-85 | K3: CAP 65-90 | L3: AB08
B4: Penetração (100 g, 5 s, 25º C) | C4: 0,1mm | D4: 30 a 45 | E4: 50 a 70 | F4: 85 a 100 | G4: 150 a 200 | H4: 45 a 70 | I4: 45 a 70 | J4: 40 a 70 | K4: 40 a 70 | L4: 30 a 70
B5: Ponto de amolecimento | C5: ◦C | D5: 52 | E5: 46 | F5: 43 | G5: 37 | H5: 50 | I5: 55 | J5: 60 | K5: 65 | L5: 50
B6: Viscosidade Brookfield a diferentes temperaturas para o estabelecimento da curva viscosidade x temperatura (135°C) | C6: cP | D6: 374 | E6: 274 | F6: 214 | G6: 155 | H6: 1500 | I6: 3000 | J6: 3000 | K6: 3000 | L6: N.A.
B7: Viscosidade Brookfield a diferentes temperaturas para o estabelecimento da curva viscosidade x temperatura (150°C) | C7: cP | D7: 203 | E7: 112 | F7: 97 | G7: 81 | H7: 1000 | I7: 2000 | J7: 2000 | K7: 2000 | L7: N.A.
B8: Viscosidade Brookfield a diferentes temperaturas para o estabelecimento da curva viscosidade x temperatura (175°C) | C8: cP | D8: N.A. | E8: N.A. | F8: N.A. | G8: N.A. | H8: N.A. | I8: N.A. | J8: N.A. | K8: N.A. | L8: 1300 a 1700
B9: Viscosidade Brookfield a diferentes temperaturas para o estabelecimento da curva viscosidade x temperatura (177°C) | C9: cP | D9: 76 a 285 | E9: 57 a 285 | F9: 28 a 114 | G9: 28 a 114 | H9: 500 | I9: 1000 | J9: 1000 | K9: 1000 | L9: N.A.
B10: Ponto de Fulgor | C10: ◦C | D10: 235 | E10: 235 | F10: 235 | G10: 235 | H10: 235 | I10: 235 | J10: 235 | K10: 235 | L10: 235
B11: Ensaio de separação de fase | C11: ◦C | D11: N.A. | E11: N.A. | F11: N.A. | G11: N.A. | H11: 5 | I11: 5 | J11: 5 | K11: 5 | L11: 9
B12: Recuperação elástica a 25◦C, 20cm, mín. | C12: % | D12: N.A. | E12: N.A. | F12: N.A. | G12: N.A. | H12: 65 | I12: 75 | J12: 85 | K12: 90 | L12: 50
B13: Solubilidade em Tricloroetileno | C13: % massa | D13: 99.5 | E13: 99.5 | F13: 99.5 | G13: 99.5 | H13: 99.5 | I13: 99.5 | J13: 99.5 | K13: 99.5 | L13: N.A.
B14: Estabilidade à Estocagem, máx. | C14: ◦C | D14: N.A. | E14: N.A. | F14: N.A. | G14: N.A. | H14: N.A. | I14: N.A. | J14: N.A. | K14: N.A. | L14: 9
B15: Ductilidade a 25ºC | C15: cm | D15: 60 | E15: 60 | F15: 100 | G15: 100 | H15: 60 | I15: 60 | J15: 100 | K15: 100 | L15: 50
B16: RTFOT | C16: 163 ◦C, 85min | D16: N.A. | E16: N.A. | F16: N.A. | G16: N.A. | H16: N.A. | I16: N.A. | J16: N.A. | K16: N.A. | L16: N.A.
B17: Variação em massa | C17: % massa | D17: 0.5 | E17: 0.5 | F17: 0.5 | G17: 0.5 | H17: 1 | I17: 1 | J17: 1 | K17: 1 | L17: 1
B18: Porcentagem de penetração original, mín. | C18: cm | D18: 10 | E18: 20 | F18: 50 | G18: 50 | H18: 60 | I18: 60 | J18: 60 | K18: 60 | L18: 55
B19: Aumento do Ponto de Amolecimento | C19: ◦C | D19: 8 | E19: 8 | F19: 8 | G19: 8 | H19: 6 | I19: 7 | J19: 7 | K19: 7 | L19: 10
B20: Penetração retida | C20: % | D20: 60 | E20: 55 | F20: 55 | G20: 50 | H20: 60 | I20: 60 | J20: 60 | K20: 60 | L20: N.A.
B21: Porcentagem da recuperação elástica original | C21: % | D21: N.A. | E21: N.A. | F21: N.A. | G21: N.A. | H21: 80 | I21: 80 | J21: 80 | K21: 80 | L21: 100
